BEGIN:VCALENDAR
VERSION:2.0
PRODID:-//Aktesteatre i Blai Senabre - ECPv6.2.8.1//NONSGML v1.0//EN
CALSCALE:GREGORIAN
METHOD:PUBLISH
X-WR-CALNAME:Aktesteatre i Blai Senabre
X-ORIGINAL-URL:https://aktesteatre.com
X-WR-CALDESC:Events for Aktesteatre i Blai Senabre
REFRESH-INTERVAL;VALUE=DURATION:PT1H
X-Robots-Tag:noindex
X-PUBLISHED-TTL:PT1H
BEGIN:VTIMEZONE
TZID:Europe/Helsinki
BEGIN:DAYLIGHT
TZOFFSETFROM:+0200
TZOFFSETTO:+0300
TZNAME:EEST
DTSTART:20230326T010000
END:DAYLIGHT
BEGIN:STANDARD
TZOFFSETFROM:+0300
TZOFFSETTO:+0200
TZNAME:EET
DTSTART:20231029T010000
END:STANDARD
BEGIN:DAYLIGHT
TZOFFSETFROM:+0200
TZOFFSETTO:+0300
TZNAME:EEST
DTSTART:20240331T010000
END:DAYLIGHT
BEGIN:STANDARD
TZOFFSETFROM:+0300
TZOFFSETTO:+0200
TZNAME:EET
DTSTART:20241027T010000
END:STANDARD
TZID:UTC
BEGIN:STANDARD
TZOFFSETFROM:+0000
TZOFFSETTO:+0000
TZNAME:UTC
DTSTART:20230101T000000
END:STANDARD
END:VTIMEZONE
BEGIN:VEVENT
DTSTART;TZID=Europe/Helsinki:20240119T000000
DTEND;TZID=Europe/Helsinki:20240119T000000
DTSTAMP:20260425T154511
CREATED:20231219T140209Z
LAST-MODIFIED:20231219T140209Z
UID:2675-1705622400-1705622400@aktesteatre.com
SUMMARY:Matí. Contes. Campanya escolar a Cornellà.
DESCRIPTION:
URL:https://aktesteatre.com/event/mati-contes-campanya-escolar-a-cornella-4/
END:VEVENT
BEGIN:VEVENT
DTSTART;TZID=Europe/Helsinki:20240118T000000
DTEND;TZID=Europe/Helsinki:20240118T000000
DTSTAMP:20260425T154511
CREATED:20231219T140138Z
LAST-MODIFIED:20231219T140138Z
UID:2673-1705536000-1705536000@aktesteatre.com
SUMMARY:Matí. Contes. Campanya escolar a Cornellà.
DESCRIPTION:
URL:https://aktesteatre.com/event/mati-contes-campanya-escolar-a-cornella-3/
END:VEVENT
BEGIN:VEVENT
DTSTART;TZID=Europe/Helsinki:20240117T173000
DTEND;TZID=Europe/Helsinki:20240117T173000
DTSTAMP:20260425T154511
CREATED:20231219T135954Z
LAST-MODIFIED:20231219T135954Z
UID:2671-1705512600-1705512600@aktesteatre.com
SUMMARY:Atreveix-te amb els llibres. Biblioteca Trinitat Vella.
DESCRIPTION:
URL:https://aktesteatre.com/event/atreveix-te-amb-els-llibres-biblioteca-trinitat-vella/
END:VEVENT
BEGIN:VEVENT
DTSTART;TZID=Europe/Helsinki:20240117T000000
DTEND;TZID=Europe/Helsinki:20240117T000000
DTSTAMP:20260425T154511
CREATED:20231219T135910Z
LAST-MODIFIED:20231219T135910Z
UID:2669-1705449600-1705449600@aktesteatre.com
SUMMARY:Matí. Contes. Campanya escolar a Cornellà.
DESCRIPTION:
URL:https://aktesteatre.com/event/mati-contes-campanya-escolar-a-cornella-2/
END:VEVENT
BEGIN:VEVENT
DTSTART;TZID=Europe/Helsinki:20240116T000000
DTEND;TZID=Europe/Helsinki:20240116T000000
DTSTAMP:20260425T154511
CREATED:20231219T135806Z
LAST-MODIFIED:20231219T135806Z
UID:2667-1705363200-1705363200@aktesteatre.com
SUMMARY:Matí. Contes. Campanya escolar a Montornès del Vallès.
DESCRIPTION:
URL:https://aktesteatre.com/event/mati-contes-campanya-escolar-a-montornes-del-valles/
END:VEVENT
BEGIN:VEVENT
DTSTART;TZID=Europe/Helsinki:20240115T000000
DTEND;TZID=Europe/Helsinki:20240115T000000
DTSTAMP:20260425T154511
CREATED:20231219T135731Z
LAST-MODIFIED:20231219T135731Z
UID:2665-1705276800-1705276800@aktesteatre.com
SUMMARY:Matí. Contes. Campanya escolar a Cornellà.
DESCRIPTION:
URL:https://aktesteatre.com/event/mati-contes-campanya-escolar-a-cornella/
END:VEVENT
BEGIN:VEVENT
DTSTART;VALUE=DATE:20240104
DTEND;VALUE=DATE:20240106
DTSTAMP:20260425T154511
CREATED:20231219T135146Z
LAST-MODIFIED:20231219T135146Z
UID:2663-1704326400-1704499199@aktesteatre.com
SUMMARY:Narració de contes i animació. Campament Reial. Palau – Solità i Plegamans.
DESCRIPTION:
URL:https://aktesteatre.com/event/narracio-de-contes-i-animacio-campament-reial-palau-solita-i-plegamans/
END:VEVENT
BEGIN:VEVENT
DTSTART;TZID=Europe/Helsinki:20231228T000000
DTEND;TZID=Europe/Helsinki:20231228T000000
DTSTAMP:20260425T154511
CREATED:20231215T150501Z
LAST-MODIFIED:20231218T084459Z
UID:2084-1703721600-1703721600@aktesteatre.com
SUMMARY:Narració de contes «La princesa i el pastor». Centre Cívic Can Falguera. Santa Perpètua de la Mogoda.
DESCRIPTION:
URL:https://aktesteatre.com/event/narracio-de-contes-la-princesa-i-el-pastor-centre-civic-can-falguera-santa-perpetua-de-la-mogoda/
END:VEVENT
BEGIN:VEVENT
DTSTART;TZID=Europe/Helsinki:20231227T000000
DTEND;TZID=Europe/Helsinki:20231227T000000
DTSTAMP:20260425T154511
CREATED:20231215T150418Z
LAST-MODIFIED:20231218T084405Z
UID:2082-1703635200-1703635200@aktesteatre.com
SUMMARY:Al matí. Contes a l’hospital.
DESCRIPTION:
URL:https://aktesteatre.com/event/al-mati-contes-a-lhospital/
END:VEVENT
BEGIN:VEVENT
DTSTART;TZID=Europe/Helsinki:20231222T180000
DTEND;TZID=Europe/Helsinki:20231222T180000
DTSTAMP:20260425T154511
CREATED:20231215T145448Z
LAST-MODIFIED:20231215T145459Z
UID:2051-1703268000-1703268000@aktesteatre.com
SUMMARY:Narració de contes «Fum Fum Fum».  Biblioteca de Bigues i Riells.
DESCRIPTION:
URL:https://aktesteatre.com/event/narracio-de-contes-fum-fum-fum-biblioteca-de-bigues-i-riells/
END:VEVENT
BEGIN:VEVENT
DTSTART;TZID=Europe/Helsinki:20231220T173000
DTEND;TZID=Europe/Helsinki:20231220T173000
DTSTAMP:20260425T154511
CREATED:20231215T144725Z
LAST-MODIFIED:20231215T150224Z
UID:2033-1703093400-1703093400@aktesteatre.com
SUMMARY:Festa Caga Tió. Centre Cívic Sarrià.
DESCRIPTION:
URL:https://aktesteatre.com/event/festa-caga-tio-centre-civic-sarria/
END:VEVENT
BEGIN:VEVENT
DTSTART;TZID=UTC:20231217T120000
DTEND;TZID=UTC:20231217T120000
DTSTAMP:20260425T154511
CREATED:20231214T102758Z
LAST-MODIFIED:20231215T145746Z
UID:425-1702814400-1702814400@aktesteatre.com
SUMMARY:Narració de contes a la Fireta de Nadal. Xirivella (València)
DESCRIPTION:
URL:https://aktesteatre.com/event/narracio-de-contes-a-la-fireta-de-nadal/
END:VEVENT
END:VCALENDAR